BEGIN:VCALENDAR
VERSION:2.0
PRODID:-//ChamberMaster//Event Calendar 2.0//EN
METHOD:PUBLISH
X-PUBLISHED-TTL:P3D
REFRESH-INTERVAL:P3D
CALSCALE:GREGORIAN
BEGIN:VEVENT
DTSTART:20230110T140000Z
DTEND:20230110T150000Z
X-MICROSOFT-CDO-ALLDAYEVENT:FALSE
SUMMARY:18 Woburn Street Development Meeting
DESCRIPTION:Please join the Town of Reading and local business owners to discuss the construction process and schedule for 18 Woburn Street in Reading\, MA.  The developer will attend the meeting to answer questions and foster communications.  Event flyer may be found here.
X-ALT-DESC;FMTTYPE=text/html:Please join the Town of Reading and local business owners to discuss the construction process and schedule for 18 Woburn Street in Reading\, MA.&nbsp\; The developer will attend the meeting to answer questions and foster communications.&nbsp\; Event flyer may be found <a href="https://chambermaster.blob.core.windows.net/userfiles/UserFiles/chambers/2559/File/Reading_Parking/18WoburnStreetParkingSpacesMeeting2.pdf">here</a>.
LOCATION:Whitelam Books 610 Main Street Reading\, MA
UID:e.2559.1475
SEQUENCE:3
DTSTAMP:20260424T003758Z
URL:https://business.readingnreadingchamber.org/events/details/18-woburn-street-development-meeting-1475
END:VEVENT

END:VCALENDAR
