BEGIN:VCALENDAR
VERSION:2.0
PRODID:-//ChamberMaster//Event Calendar 2.0//EN
METHOD:PUBLISH
X-PUBLISHED-TTL:P3D
REFRESH-INTERVAL:P3D
CALSCALE:GREGORIAN
BEGIN:VEVENT
DTSTART:20190731T213000Z
DTEND:20190801T003000Z
X-MICROSOFT-CDO-ALLDAYEVENT:FALSE
SUMMARY:13th Annual Transitioning into and within the Medical Device Industry Event.
DESCRIPTION:Are you now working in the industry and have considered moving to another company or using your skills in an entirely new area? The medical device industry is ripe with opportunities for people who want to help bring new medical products to market.\n\n\n\nThis annual meeting is for anyone seeking to enter or move laterally within the medical device industry. Historically\, this is the most well-attended MDG Boston networking event of the year. Register early and start your year off right.\nOur panel of industry veterans will talk about their varied experiences with transitions and provide insights to help you in your career. Additionally\, a number of past speakers are invited back as special guests.  \n\n \n\nOne of our special guests\, Dr. James Philip\, transitioned from an electrical engineer into medicine and a career as anesthesiologist and inventor.
X-ALT-DESC;FMTTYPE=text/html:Are you now working in the industry and have considered moving to another company or using your skills in an entirely new area? The medical device industry is ripe with opportunities for people who want to help bring new medical products to market.<br />\n<br />\nThis annual meeting is for anyone seeking to enter or move laterally within the medical device industry. Historically\, this is the most well-attended MDG Boston networking event of the year. Register early and start your year off right.\n<div style="color: #000000\;">Our panel of industry veterans will talk about their varied experiences with transitions and provide insights to help you in your career. Additionally\, a number of past speakers are invited back as special guests. &nbsp\;</div>\n\n<div style="color: #000000\;">&nbsp\;</div>\n\n<div style="color: #000000\;"><span>One of our special guests\, Dr. James Philip\, transitioned from an electrical engineer into medicine and a career as anesthesiologist and inventor.</span></div>\n\n<div style="color: #000000\;">&nbsp\;</div>\n
LOCATION:Regis College 235 Wellesley Street Weston\, MA
UID:e.2559.1201
SEQUENCE:3
DTSTAMP:20260424T055832Z
URL:https://business.readingnreadingchamber.org/events/details/13th-annual-transitioning-into-and-within-the-medical-device-industry-event-1201
END:VEVENT

END:VCALENDAR
